BEGIN:VCALENDAR
VERSION:2.0
PRODID:-//SpiritMap - ECPv6.15.20//NONSGML v1.0//EN
CALSCALE:GREGORIAN
METHOD:PUBLISH
X-WR-CALNAME:SpiritMap
X-ORIGINAL-URL:https://spiritmap.eu
X-WR-CALDESC:Wydarzenia dla SpiritMap
REFRESH-INTERVAL;VALUE=DURATION:PT1H
X-Robots-Tag:noindex
X-PUBLISHED-TTL:PT1H
BEGIN:VTIMEZONE
TZID:UTC
BEGIN:STANDARD
TZOFFSETFROM:+0000
TZOFFSETTO:+0000
TZNAME:UTC
DTSTART:20250101T000000
END:STANDARD
END:VTIMEZONE
BEGIN:VEVENT
DTSTART;TZID=UTC:20260430T080000
DTEND;TZID=UTC:20260510T170000
DTSTAMP:20260420T164929
CREATED:20260420T144218Z
LAST-MODIFIED:20260420T144319Z
UID:10000001-1777536000-1778432400@spiritmap.eu
SUMMARY:MAJÓWKA w PRZY※JAŹNI PRZY※BIJ I PRZY※KRĘĆ Z NAMI\, czyli pierwszy zlot przy※jaciół PRZY※JAŹNI
DESCRIPTION:MAJÓWKA w PRZY※JAŹNIPRZY※BIJ I PRZY※KRĘĆ Z NAMI\, czyli pierwszy zlot przy※jaciół PRZY※JAŹNI\,\n30.04-10.05 (wybierz dogodny dla siebie czas)\nKU PROSTOCIE\n☼ HEJ TY\, kochana istoto. To już ten czas\, by wyjść ze swoich wewnętrznych podróży. Wrócić ze słonecznych wojaży. Napełniony nowym\, wyciągnąć się do słońca\, do działania\, do świata zewnętrznego. Przejawić to\, co obudziło się w Tobie i stało się Twoją codziennością. Tak po prostu\, spotkać się\, podziałać\, pobyć.\n✹ Zapraszamy na inaugurację wspólnego bycia i tworzenia do Ziemian. Szukamy duszyczek\, które zadedykują nam kilka godzin swojego czasu\, z zajawką na współtworzenie przestrzeni festiwalu. Ogromnie przyda nam się każda pomoc.\n☼ W tym roku wszystko idzie ku prostocie. Twoje zadania też będą proste\, ale niezwykle potrzebne. Tak jak autentyczna obecność\, która nie wymaga przebrania. Wystarczy\, że jesteś i to czyni zmianę.\n✹ W zamian za 6 godzin działania dziennie oferujemy domek\, wyżywienie\, poranne praktyki i kolektywne wieczory plemienne. Jeśli zostaniesz z nami przez 6 dni lub w sumie na wszystkich 3 zlotach (2. zlot: 11.06-21.06\, 3. zlot: 03.07-14.07) poświęcisz nam 6 dni dostaniesz także przyjściówkę na 3. Edycje Festiwalu PRZY※JAŹNI.Ziemiany zapraszają do swoich lasów\, a my do naszych serc\nJa jestemTy jesteśMy jesteśmy!\n☼ Kiedy to prawdziwie poczujemy całe ciało się relaksuje. Skoro jestem to nie mogę nie być. Skoro jestem to jestem wart_ istnienia. Hey świecie\, jestem! Czy jest coś prostszego?\n✹ Zgłoszenia przyjmujemy na maila: wolontariat.festiwal.przyjazni@gmail.com lub pod numerem +48 579 885 747.\nDopisz prosimy\, na ile i w jakim terminie możesz przy※być.
URL:https://spiritmap.eu/event/majowka-w-przy%e2%80%bbjazni-przy%e2%80%bbbij-i-przy%e2%80%bbkrec-z-nami-czyli-pierwszy-zlot-przy%e2%80%bbjaciol-przy%e2%80%bbjazni/
ATTACH;FMTTYPE=image/jpeg:https://spiritmap.eu/wp-content/uploads/2026/04/658438665_122292459638075044_8660070657126621065_n.jpg
END:VEVENT
END:VCALENDAR